BEGIN:VCALENDAR
VERSION:2.0
PRODID:-//Δημόσια Κεντρική Βιβλιοθήκη Βέροιας - ECPv6.15.20//NONSGML v1.0//EN
CALSCALE:GREGORIAN
METHOD:PUBLISH
X-WR-CALNAME:Δημόσια Κεντρική Βιβλιοθήκη Βέροιας
X-ORIGINAL-URL:https://www.libver.gr
X-WR-CALDESC:Events for Δημόσια Κεντρική Βιβλιοθήκη Βέροιας
REFRESH-INTERVAL;VALUE=DURATION:PT1H
X-Robots-Tag:noindex
X-PUBLISHED-TTL:PT1H
BEGIN:VTIMEZONE
TZID:Europe/Athens
BEGIN:DAYLIGHT
TZOFFSETFROM:+0200
TZOFFSETTO:+0300
TZNAME:EEST
DTSTART:20240331T010000
END:DAYLIGHT
BEGIN:STANDARD
TZOFFSETFROM:+0300
TZOFFSETTO:+0200
TZNAME:EET
DTSTART:20241027T010000
END:STANDARD
BEGIN:DAYLIGHT
TZOFFSETFROM:+0200
TZOFFSETTO:+0300
TZNAME:EEST
DTSTART:20250330T010000
END:DAYLIGHT
BEGIN:STANDARD
TZOFFSETFROM:+0300
TZOFFSETTO:+0200
TZNAME:EET
DTSTART:20251026T010000
END:STANDARD
BEGIN:DAYLIGHT
TZOFFSETFROM:+0200
TZOFFSETTO:+0300
TZNAME:EEST
DTSTART:20260329T010000
END:DAYLIGHT
BEGIN:STANDARD
TZOFFSETFROM:+0300
TZOFFSETTO:+0200
TZNAME:EET
DTSTART:20261025T010000
END:STANDARD
END:VTIMEZONE
BEGIN:VEVENT
DTSTART;TZID=Europe/Athens:20250913T110000
DTEND;TZID=Europe/Athens:20250913T140000
DTSTAMP:20260420T171759
CREATED:20250904T063702Z
LAST-MODIFIED:20250905T060656Z
UID:38692-1757761200-1757772000@www.libver.gr
SUMMARY:🚀 Elevate: Young Innovators and U.S. Technology Confront Natural Disasters
DESCRIPTION:Το Elevate έρχεται στη Βέροια από την ομάδα της Hellenic Drones\, για να δείξει πώς η αμερικανική τεχνολογία και η καινοτομία μπορούν να συμβάλουν στην πρόληψη πυρκαγιών & φυσικών καταστροφών.  🔥🌍 \nΤο πρόγραμμα απευθύνεται σε μαθητές Γυμνασίου – Λυκείου και περιλαμβάνει εργαστήρια στις Αμερικανικές Γωνιές της Βέροιας\, της Ξάνθης\, της Θεσσαλονίκης και του Πειραιά\, για την χρήση drones στην πρόληψη και αντιμετώπιση φυσικών καταστροφών.  Το πρόγραμμα θα ολοκληρωθεί με την διεξαγωγή ενός Ηackathon (περισσότερες πληροφορίες και ημερομηνίες στην φόρμα εγγραφής). \nΜε την υποστήριξη της Πρεσβείας των Η.Π.Α. στην Ελλάδα\n👩‍💻 160 μαθητές\, σε 4 American Spaces\, εργαστήρια\, hackathon και drones σε δράση!\n📅 Στην Βέροια 13 Σεπτεμβρίου 2025 | 11:00 -14:00\n🔗 Δήλωσε συμμετοχή εδώ: 👉 Φόρμα συμμετοχής \n#ElevateGreece #YouthInTech #InnovationForGood #AmericanSpaces  #ΠρόληψηΚαταστροφών #americanspaceveria #americanspacethessaloniki #americanspacexanthi #americanspacepiraeus #athensusembassy
URL:https://www.libver.gr/event/%f0%9f%9a%80-elevate-young-innovators-and-u-s-technology-confront-natural-disasters/
CATEGORIES:Εργαστήριο
END:VEVENT
END:VCALENDAR