BEGIN:VCALENDAR
VERSION:2.0
PRODID:-//Δημόσια Κεντρική Βιβλιοθήκη Βέροιας - ECPv6.15.20//NONSGML v1.0//EN
CALSCALE:GREGORIAN
METHOD:PUBLISH
X-ORIGINAL-URL:https://www.libver.gr
X-WR-CALDESC:Events for Δημόσια Κεντρική Βιβλιοθήκη Βέροιας
REFRESH-INTERVAL;VALUE=DURATION:PT1H
X-Robots-Tag:noindex
X-PUBLISHED-TTL:PT1H
BEGIN:VTIMEZONE
TZID:Europe/Athens
BEGIN:DAYLIGHT
TZOFFSETFROM:+0200
TZOFFSETTO:+0300
TZNAME:EEST
DTSTART:20240331T010000
END:DAYLIGHT
BEGIN:STANDARD
TZOFFSETFROM:+0300
TZOFFSETTO:+0200
TZNAME:EET
DTSTART:20241027T010000
END:STANDARD
BEGIN:DAYLIGHT
TZOFFSETFROM:+0200
TZOFFSETTO:+0300
TZNAME:EEST
DTSTART:20250330T010000
END:DAYLIGHT
BEGIN:STANDARD
TZOFFSETFROM:+0300
TZOFFSETTO:+0200
TZNAME:EET
DTSTART:20251026T010000
END:STANDARD
BEGIN:DAYLIGHT
TZOFFSETFROM:+0200
TZOFFSETTO:+0300
TZNAME:EEST
DTSTART:20260329T010000
END:DAYLIGHT
BEGIN:STANDARD
TZOFFSETFROM:+0300
TZOFFSETTO:+0200
TZNAME:EET
DTSTART:20261025T010000
END:STANDARD
END:VTIMEZONE
BEGIN:VEVENT
DTSTART;TZID=Europe/Athens:20251025T120000
DTEND;TZID=Europe/Athens:20251025T133000
DTSTAMP:20260421T145822
CREATED:20251020T123257Z
LAST-MODIFIED:20251020T123257Z
UID:38749-1761393600-1761399000@www.libver.gr
SUMMARY:«Φωτιά στο δάσος της Μεγάλης Καστανιάς» το νέο βιβλίο της Όλγας Ιγνατιάδου παρουσιάζεται στη Βέροια
DESCRIPTION:Η Δημόσια Κεντρική Βιβλιοθήκη Βέροιας και οι εκδόσεις ΘΕΡΜΑΪΚΟΣ σας προσκαλούν στην παρουσίαση του βιβλίου με τίτλο «Φωτιά στο δάσος της Μεγάλης Καστανιάς» της Βεροιώτισσας Όλγας Ιγνατιάδου\, \nτο Σάββατο 25 Οκτωβρίου 2025 και ώρα 12 το μεσημέρι\, στην αίθουσα εκδηλώσεων  της Δημόσιας Κεντρικής Βιβλιοθήκης της Βέροιας. \nΘα μιλήσουν οι: \nΜαρία Μπαρμπαρούση\, Εκπαιδευτικός\, \nΠάρης Παπακανάκης\, εκπαιδευτικός\, \nΒασίλης Καρανάσιος\, Υποπυραγός – Υποδιοικητής του τμήματος Αλεξάνδρειας της Πυροσβεστικής Υπηρεσίας και η συγγραφέας του βιβλίου Όλγα Ιγνατιάδου. \nΤην εκδήλωση θα συντονίσει η μουσικοθεραπεύτρια Ευδοξία Δαβόρα. \nΘα ακολουθήσουν πειράματα και κατασκευές για  μικρά παιδιά που θα μας βοηθήσουν να κατανοήσουμε\, να πειραματιστούμε και να δεσμευτούμε όλοι μαζί για την προστασία των δασών μας. \nΛίγα λόγια για το βιβλίο \nΠρόκειται για το 2ο παραμύθι της σειράς «Ιστορίες της Μεγάλης Καστανιάς» που κυκλοφορεί από τις Εκδόσεις Θερμαϊκος με τίτλο «Φωτιά στο δάσος της Μεγάλης Καστανιάς» σε κείμενο Όλγας Ιγνατιάδου και εικονογράφηση Ειρήνης Σκούρα. Πρόκειται για μια ιστορία που διαδραματίζεται στο δάσος με πρωταγωνιστές τα ίδια τα ζώα που κατοικούν σ’ αυτό. Μια μεγάλη όμως πυρκαγιά απειλεί τη ζωή τους αλλά και το ίδιο τους το σπίτι. Παραμερίζοντας\, λοιπόν\, όλες τις διαφορές τους\, συνεργάζονται για να αντιμετωπίσουν την κατάσταση. Ένα παραμύθι για τη σπουδαιότητα της ομαδικής συνεργασίας που υπερβαίνει κάθε στερεότυπο και διαφορά\, θυμίζοντάς μας πως στο τέλος\, το μόνο που μένει είναι η αγάπη και η αλληλεγγύη. \nΗ Όλγα Ιγνατιάδου γεννήθηκε και μεγάλωσε στη Βέροια Ημαθίας. Με αγάπη στη μουσική\, της άρεσε να δημιουργεί εικόνες και ιστορίες σε κάθε ήχο. Λάτρης της φύσης και της γαλήνης που προσφέρει στον άνθρωπο το δάσος\, ξεκίνησε τη συγγραφική της πορεία στο Βέρμιο\, κάτω από μια υπεραιωνόβια καστανιά\, τη στιγμή που έμαθε πως θα γίνει για πρώτη φορά γιαγιά. \nΗ Ειρήνη Σκούρα γεννήθηκε και μεγάλωσε στη Θεσσαλονίκη. Σπούδασε Αρχαιολογία στην Κρήτη και ολοκλήρωσε τις μεταπτυχιακές της σπουδές στη Βυζαντινή Αρχαιολογία στη Θεσσαλονίκη. Στη συνέχεια\, παρακολούθησε μαθήματα σχεδίου κόμικς\, photoshop και μικρογλυπτικής φιγούρας. Η αγάπη της για το σχέδιο εμφανίστηκε σε πολύ μικρή ηλικία κι εκδηλώθηκε με ζωγραφική με στυλό στους τοίχους του δωματίου της. Έκτοτε στράφηκε σε πιο συμβατικά μέσα. Από το 2012 συμμετέχει σε πολλά φεστιβάλ κόμικς στην Αθήνα και τη Θεσσαλονίκη. Το 2017 έκανε την εικονογράφηση για το βιβλίο «Έρωτας και Ψυχή» σε κείμενο Μυρτώς Γκιούλη.
URL:https://www.libver.gr/event/%cf%86%cf%89%cf%84%ce%b9%ce%ac-%cf%83%cf%84%ce%bf-%ce%b4%ce%ac%cf%83%ce%bf%cf%82-%cf%84%ce%b7%cf%82-%ce%bc%ce%b5%ce%b3%ce%ac%ce%bb%ce%b7%cf%82-%ce%ba%ce%b1%cf%83%cf%84%ce%b1%ce%bd%ce%b9%ce%ac/
CATEGORIES:Εκδήλωση
END:VEVENT
END:VCALENDAR