BEGIN:VCALENDAR
VERSION:2.0
PRODID:-//Δημόσια Κεντρική Βιβλιοθήκη Βέροιας - ECPv6.15.20//NONSGML v1.0//EN
CALSCALE:GREGORIAN
METHOD:PUBLISH
X-WR-CALNAME:Δημόσια Κεντρική Βιβλιοθήκη Βέροιας
X-ORIGINAL-URL:https://www.libver.gr
X-WR-CALDESC:Events for Δημόσια Κεντρική Βιβλιοθήκη Βέροιας
REFRESH-INTERVAL;VALUE=DURATION:PT1H
X-Robots-Tag:noindex
X-PUBLISHED-TTL:PT1H
BEGIN:VTIMEZONE
TZID:Europe/Athens
BEGIN:DAYLIGHT
TZOFFSETFROM:+0200
TZOFFSETTO:+0300
TZNAME:EEST
DTSTART:20240331T010000
END:DAYLIGHT
BEGIN:STANDARD
TZOFFSETFROM:+0300
TZOFFSETTO:+0200
TZNAME:EET
DTSTART:20241027T010000
END:STANDARD
BEGIN:DAYLIGHT
TZOFFSETFROM:+0200
TZOFFSETTO:+0300
TZNAME:EEST
DTSTART:20250330T010000
END:DAYLIGHT
BEGIN:STANDARD
TZOFFSETFROM:+0300
TZOFFSETTO:+0200
TZNAME:EET
DTSTART:20251026T010000
END:STANDARD
BEGIN:DAYLIGHT
TZOFFSETFROM:+0200
TZOFFSETTO:+0300
TZNAME:EEST
DTSTART:20260329T010000
END:DAYLIGHT
BEGIN:STANDARD
TZOFFSETFROM:+0300
TZOFFSETTO:+0200
TZNAME:EET
DTSTART:20261025T010000
END:STANDARD
END:VTIMEZONE
BEGIN:VEVENT
DTSTART;TZID=Europe/Athens:20251105T180000
DTEND;TZID=Europe/Athens:20251105T193000
DTSTAMP:20260420T171048
CREATED:20251031T123004Z
LAST-MODIFIED:20251031T123004Z
UID:38776-1762365600-1762371000@www.libver.gr
SUMMARY:Τα μυστικά του Βάλτου αλλιώς…  ο Γιάννης Μοσχόπουλος παρουσιάζει το νέο του βιβλίο στη Βέροια
DESCRIPTION:Ο Γιάννης Μοσχόπουλος και οι Εκδόσεις Φυλάτος σας προσκαλούν σε μια βραδιά μνήμης και λόγου\, με αφορμή το βιβλίο  \n  \nΤα μυστικά του Βάλτου αλλιώς…  \nΟ Μακεδονικός Αγώνας στη λίμνη Γιαννιτσών  \nκαι στο Ρουμλούκι – Καμπανία (1901 – 1908)  \n  \nΤετάρτη 5 Νοεμβρίου 2025\, στις 6 το απόγευμα\,  \nστην αίθουσα εκδηλώσεων της Δημόσιας Κεντρικής Βιβλιοθήκης της Βέροιας  \n  \nΘα μιλήσουν:  \nΧαρούλα Ουσουλτζόγλου\, δημοσιογράφος & πρώην Δήμαρχος Βέροιας  \nΧρήστος Μπλατσιώτης\, δημοσιογράφος  \nΓιάννης Μοσχόπουλος\, συγγραφέας του βιβλίου  \n  \nΘα ακολουθήσει συζήτηση  \n  \n  \nO Γιάννης Μοσχόπουλος γεννήθηκε και ζει στην Αλεξάνδρεια. Από μαθητής ξεκίνησε να συλλέγει υλικό και να γράφει για την ιστορία\, την τοπογραφία και την λαογραφία της ιδιαίτερης πατρίδας του. Σπούδασε νομικά και άσκησε δικηγορία επί 40 χρόνια. Υπήρξε ιδρυτής και μέλος διαφόρων πολιτιστικών συλλόγων της πόλης. Από το 1980 έχει δημοσιεύσει άρθρα του σε τοπικές εφημερίδες\, έδωσε διαλέξεις\, πήρε μέρος σε ημερίδες\, συνέδρια\, ραδιοφωνικές και τηλεοπτικές εκπομπές. Διετέλεσε δημοτικός σύμβουλος Αλεξάνδρειας και νομαρχιακός σύμβουλος Ημαθίας. Έχει διαρκή συνεργασία με εκπαιδευτικούς για μαθήματα τοπικής ιστορίας και λαογραφίας σε μαθητές. Είναι έκτακτο μέλος της Ελληνικής Ιστορικής Εταιρίας\, πρόεδρος του Δ.Σ. στο Σύλλογο Φίλων Εθνογραφικού Κέντρου Γ. ΜΕΛΙΚΗ – Κ.Ε.Μ. και μέλος της Εταιρίας Μακεδονικών Σπουδών. Στις δημοσιεύσεις του αναφέρεται στον γενέθλιο τόπο του\, τον κάμπο του Αλιάκμονα. Στόχος του είναι να δώσει ένα ιστορικό περίγραμμα για την πεδινή περιοχή της Ημαθίας που λέγεται Ρουμλούκι. \n  \n    Τώρα σφραγίζει τα σαράντα χρόνια του συγγραφικού του έργου με το έβδομο βιβλίο του\, «Τα μυστικά του Βάλτου αλλιώς …».  \nΠρόκειται για μία αυτοτελή μονογραφία\, που φωτίζει τεκμηριωμένα την οκτάχρονη σύγκρουση μεταξύ Ελλήνων\, Βουλγάρων\, Οθωμανών και Ρουμανιζόντων στη λίμνη των Γιαννιτσών\, όπου ηρωισμός και ανορθόδοξος πόλεμος\, προσωπικές θυσίες και στρατηγικές αναμετρήθηκαν για να γράψουν νέες σελίδες της νεότερης ελληνικής ιστορίας. Αποκαλύπτει τις άγνωστες λεπτομέρειες εκείνου του αγώνα\, αναδεικνύει ξεχασμένα πρόσωπα ή λησμονημένες ιστορίες\, φωτίζει όψεις που αποσιωπήθηκαν\, γεγονότα που υποτιμήθηκαν\, ηρωικές πράξεις που αγνοήθηκαν\, αγριότητες που σημάδεψαν τον τόπο και τους ανθρώπους και άφησαν ανεξίτηλα τα σημάδια τους.  \n  \nΑισιοδοξεί ότι το βιβλίο αποδίδει την προσήκουσα τιμή σ’ εκείνους που αγωνίσθηκαν\, φωτίζει τη συμβολή τους έστω στα μάτια των απογόνων τους και συμβάλλει στο να συνειδητοποιήσουμε όλοι μας\, πώς κερδήθηκε κάθε πιθαμή γης του τόπου όπου γεννηθήκαμε και ζούμε.-  \nLive Streaming URL : https://new.diavlos.grnet.gr/el/room/5065/event/6896 \n  \nΔΗΜΟΣΙΑ ΚΕΝΤΡΙΚΗ ΒΙΒΛΙΟΘΗΚΗ ΒΕΡΟΙΑΣ 
URL:https://www.libver.gr/event/%cf%84%ce%b1-%ce%bc%cf%85%cf%83%cf%84%ce%b9%ce%ba%ce%ac-%cf%84%ce%bf%cf%85-%ce%b2%ce%ac%ce%bb%cf%84%ce%bf%cf%85-%ce%b1%ce%bb%ce%bb%ce%b9%cf%8e%cf%82-%ce%bf-%ce%b3%ce%b9%ce%ac%ce%bd%ce%bd/
CATEGORIES:Εκδήλωση
END:VEVENT
END:VCALENDAR