BEGIN:VCALENDAR
VERSION:2.0
PRODID:-//Δημόσια Κεντρική Βιβλιοθήκη Βέροιας - ECPv6.15.20//NONSGML v1.0//EN
CALSCALE:GREGORIAN
METHOD:PUBLISH
X-ORIGINAL-URL:https://www.libver.gr
X-WR-CALDESC:Events for Δημόσια Κεντρική Βιβλιοθήκη Βέροιας
REFRESH-INTERVAL;VALUE=DURATION:PT1H
X-Robots-Tag:noindex
X-PUBLISHED-TTL:PT1H
BEGIN:VTIMEZONE
TZID:Europe/Athens
BEGIN:DAYLIGHT
TZOFFSETFROM:+0200
TZOFFSETTO:+0300
TZNAME:EEST
DTSTART:20250330T010000
END:DAYLIGHT
BEGIN:STANDARD
TZOFFSETFROM:+0300
TZOFFSETTO:+0200
TZNAME:EET
DTSTART:20251026T010000
END:STANDARD
BEGIN:DAYLIGHT
TZOFFSETFROM:+0200
TZOFFSETTO:+0300
TZNAME:EEST
DTSTART:20260329T010000
END:DAYLIGHT
BEGIN:STANDARD
TZOFFSETFROM:+0300
TZOFFSETTO:+0200
TZNAME:EET
DTSTART:20261025T010000
END:STANDARD
BEGIN:DAYLIGHT
TZOFFSETFROM:+0200
TZOFFSETTO:+0300
TZNAME:EEST
DTSTART:20270328T010000
END:DAYLIGHT
BEGIN:STANDARD
TZOFFSETFROM:+0300
TZOFFSETTO:+0200
TZNAME:EET
DTSTART:20271031T010000
END:STANDARD
END:VTIMEZONE
BEGIN:VEVENT
DTSTART;TZID=Europe/Athens:20260216T180000
DTEND;TZID=Europe/Athens:20260216T193000
DTSTAMP:20260421T134135
CREATED:20260213T101703Z
LAST-MODIFIED:20260213T101703Z
UID:39041-1771264800-1771270200@www.libver.gr
SUMMARY:"Το έθιμο των Καπεταναίων από το Σύλλογο Βλάχων Βέροιας" παρουσίαση στη Δημόσια Βιβλιοθήκη της Βέροιας
DESCRIPTION:Σύλλογος Βλάχων Βέροιας\nSutsatâ Armânjilor di Veria \nΠρόσκληση \nΟ Σύλλογος Βλάχων Βέροιας\, συμμετέχοντας στις δεκαήμερες αποκριάτικες εκδηλώσεις του Δήμου Βέροιας\, σας προσκαλεί τη Δευτέρα 16-2-2026\, στις 18.00\, στη Δημόσια Κεντρική Βιβλιοθήκη Βέροιας\, στην παρουσίαση του εθίμου των Καπεταναίων με εισηγητή τον Τάκη Γκαλαΐτση. \nΗ παρουσία σας θα είναι μεγάλη τιμή για μας. \nΓια το Δ/Σ \n       Ο Πρόεδρος        Ο Γεν. Γραμματέας \nΧρυσής Σταμάτης     Ράπτης Γιάννης
URL:https://www.libver.gr/event/%cf%84%ce%bf-%ce%ad%ce%b8%ce%b9%ce%bc%ce%bf-%cf%84%cf%89%ce%bd-%ce%ba%ce%b1%cf%80%ce%b5%cf%84%ce%b1%ce%bd%ce%b1%ce%af%cf%89%ce%bd-%ce%b1%cf%80%cf%8c-%cf%84%ce%bf-%cf%83%cf%8d%ce%bb%ce%bb%ce%bf%ce%b3/
CATEGORIES:Εκδήλωση
END:VEVENT
END:VCALENDAR