BEGIN:VCALENDAR
VERSION:2.0
PRODID:-//Δημόσια Κεντρική Βιβλιοθήκη Βέροιας - ECPv6.15.20//NONSGML v1.0//EN
CALSCALE:GREGORIAN
METHOD:PUBLISH
X-WR-CALNAME:Δημόσια Κεντρική Βιβλιοθήκη Βέροιας
X-ORIGINAL-URL:https://www.libver.gr
X-WR-CALDESC:Events for Δημόσια Κεντρική Βιβλιοθήκη Βέροιας
REFRESH-INTERVAL;VALUE=DURATION:PT1H
X-Robots-Tag:noindex
X-PUBLISHED-TTL:PT1H
BEGIN:VTIMEZONE
TZID:Europe/Athens
BEGIN:DAYLIGHT
TZOFFSETFROM:+0200
TZOFFSETTO:+0300
TZNAME:EEST
DTSTART:20250330T010000
END:DAYLIGHT
BEGIN:STANDARD
TZOFFSETFROM:+0300
TZOFFSETTO:+0200
TZNAME:EET
DTSTART:20251026T010000
END:STANDARD
BEGIN:DAYLIGHT
TZOFFSETFROM:+0200
TZOFFSETTO:+0300
TZNAME:EEST
DTSTART:20260329T010000
END:DAYLIGHT
BEGIN:STANDARD
TZOFFSETFROM:+0300
TZOFFSETTO:+0200
TZNAME:EET
DTSTART:20261025T010000
END:STANDARD
BEGIN:DAYLIGHT
TZOFFSETFROM:+0200
TZOFFSETTO:+0300
TZNAME:EEST
DTSTART:20270328T010000
END:DAYLIGHT
BEGIN:STANDARD
TZOFFSETFROM:+0300
TZOFFSETTO:+0200
TZNAME:EET
DTSTART:20271031T010000
END:STANDARD
END:VTIMEZONE
BEGIN:VEVENT
DTSTART;TZID=Europe/Athens:20260427T180000
DTEND;TZID=Europe/Athens:20260427T193000
DTSTAMP:20260424T000154
CREATED:20260422T141041Z
LAST-MODIFIED:20260422T141041Z
UID:39215-1777312800-1777318200@www.libver.gr
SUMMARY:ΤΑ ΠΡΩΤΑ ΜΟΥ ΠΟΙΗΜΑΤΑ ΤΟ ΝΕΟ ΒΙΒΛΙΟ ΤΗΣ ΧΑΪΔΩΣ ΜΠΑΤΣΑΡΑ – ΤΖΗΚΑ ΠΑΡΟΥΣΙΑΖΕΤΑΙ ΣΤΗ ΒΕΡΟΙΑ
DESCRIPTION:Μόλις κυκλοφόρησε από τις εκδόσεις Ἀνάλεκτο το νέο βιβλίο της Χάιδως Μπατσαρά – Τζήκα\, «Τα πρώτα μου ποιήματα»\, μία εικονογραφημένη συλλογή ποιημάτων για παιδιά προσχολικής και πρώτης σχολικής ηλικίας\, που δημιουργήθηκε με παιδαγωγική ευαισθησία\, ως αποτέλεσμα μακρόχρονης εμπειρίας στη διδασκαλία. \nΗ εκπαιδευτικός Περιστέρα Κάτανα\, που προλογίζει το βιβλίο γράφει μεταξύ άλλων : «Τα ποιήματα αυτής της συλλογής γεννήθηκαν από τη μακρά πορεία της κ. Μπατσαρά\, δίπλα στα παιδιά\, ύστερα από χρόνια ακρόασης\, παρατήρησης και ουσιαστικής καθοδήγησης. Η ίδια δεν έπαψε ποτέ να αφουγκράζεται τις παιδικές φωνές\, να αναγνωρίζει τις απορίες τους\, να χαίρεται τις μικρές τους κατακτήσεις. Αυτή η βαθιά\, βιωματική σχέση με τον κόσμο του παιδιού μεταμορφώνεται εδώ σε ποιητικό λόγο. (…) Η συλλογή αυτή αποτελεί φυσική συνέχεια μιας ζωής αφιερωμένης στη διδασκαλία. Είναι η ίδια παιδαγωγική ευαισθησία και ο ίδιος σεβασμός προς το παιδί\, αποτυπωμένα πλέον σε ποιητική μορφή». \nΤο βιβλίο θα παρουσιαστεί στη Δημόσια Κεντρική Βιβλιοθήκη Βέροιας τη Δευτέρα 27 Απριλίου 2026\, ώρα 6.00 μ.μ. Για το βιβλίο θα μιλήσουν: η νηπιαγωγός Βασιλική – Παρασκευή Αγγελή\, η νομικός-συγγραφέας Άννα Γκασνάκη\, η δασκάλα Περιστέρα Κάτανα καθώς και η ίδια η συγγραφέας. Συντονίζει η συνταξιούχος νηπιαγωγός Ελένη Μουστιάκα – Μπατσαρά. \nΗ εκδήλωση πραγματοποιείται σε συνεργασία με τη Δημόσια Κεντρική Βιβλιοθήκη Βέροιας και το βιβλιοπωλείο «Ηλιοτρόπιο». \n  \nΗ Χάιδω Ν. Μπατσαρά-Τζήκα γεννήθηκε το 1951\, στο Πολυδένδρι Βεροίας\, όπου έζησε\, ως την ηλικία των 12 ετών. Είναι πτυχιούχος της Παιδαγωγικής Ακαδημίας Θεσσαλονίκης και υπηρέτησε επί 25 χρόνια\, ως δασκάλα\, σε διάφορα δημοτικά σχολεία του νομού Ημαθίας και ως Υπεύθυνη Περιβαλλοντικής Εκπαίδευσης Α/βάθμιας Εκπαίδευσης Ημαθίας. Παρακολούθησε μαθήματα δημιουργικής γραφής\, καθώς και μαθήματα επιμέλειας και διόρθωσης κειμένου\, του ΕΚΠΑ. Υπήρξε αιρετό μέλος του Δ.Σ. Δασκάλων και Νηπιαγωγών Ημαθίας και αντιπρόσωπος σε γενικές συνελεύσεις του κλάδου. Εκλέχθηκε δημοτική σύμβουλος του Δήμου Βέροιας κι επί τέσσερα έτη (2003-2006) υπηρέτησε ως αντιπρόεδρος του δημοτικού συμβουλίου\, πρόεδρος\, αντιπρόεδρος και μέλος του διοικητικού συμβουλίου δημοτικών επιχειρήσεων και νομικών προσώπων του Δήμου\, καθώς και αντιδήμαρχος παιδείας και κοινωνικής πολιτικής. Έχει συγγράψει διηγήματα\, ποιήματα\, καθώς και πονήματα λαογραφικού ενδιαφέροντος. Είναι συνταξιούχος και έχει τέσσερα παιδιά και τέσσερα εγγόνια. Ζει στη Βέροια. \nΈχει εκδώσει τα βιβλία: «Βεργίνα – Πέλλα – Λευκάδια – Δίον»\, σε συνεργασία με τον δάσκαλο Παναγιώτη Παπαϊωάννου\, ως φωτογράφο (εκδ. Ομοσπονδίας Πολιτιστικών Συλλόγων Ημαθίας\, 1994)\, «Βέροια\, οδοιπορικό μέσα στην πόλη»\, σε συνεργασία με τον δάσκαλο Παναγιώτη Παπαϊωάννου\, ως φωτογράφο (Βέροια 2002)\, «Η Αποκριά στο Πολυδένδρι Βεροίας» (εκδ. Πολιτιστικού Συλλόγου Πολυδενδρίου\, 2018)\, «Η Μαρίνα» (Βέροια 2023)\, «Χωριό μου\, όμορφο» (εκδ. Super Course\, 2025).
URL:https://www.libver.gr/event/%cf%84%ce%b1-%cf%80%cf%81%cf%89%cf%84%ce%b1-%ce%bc%ce%bf%cf%85-%cf%80%ce%bf%ce%b9%ce%b7%ce%bc%ce%b1%cf%84%ce%b1-%cf%84%ce%bf-%ce%bd%ce%b5%ce%bf-%ce%b2%ce%b9%ce%b2%ce%bb%ce%b9%ce%bf-%cf%84%ce%b7%cf%83/
CATEGORIES:Εκδήλωση
END:VEVENT
END:VCALENDAR