BEGIN:VCALENDAR
VERSION:2.0
PRODID:-//Δημόσια Κεντρική Βιβλιοθήκη Βέροιας - ECPv6.15.20//NONSGML v1.0//EN
CALSCALE:GREGORIAN
METHOD:PUBLISH
X-ORIGINAL-URL:https://www.libver.gr
X-WR-CALDESC:Events for Δημόσια Κεντρική Βιβλιοθήκη Βέροιας
REFRESH-INTERVAL;VALUE=DURATION:PT1H
X-Robots-Tag:noindex
X-PUBLISHED-TTL:PT1H
BEGIN:VTIMEZONE
TZID:Europe/Athens
BEGIN:DAYLIGHT
TZOFFSETFROM:+0200
TZOFFSETTO:+0300
TZNAME:EEST
DTSTART:20250330T010000
END:DAYLIGHT
BEGIN:STANDARD
TZOFFSETFROM:+0300
TZOFFSETTO:+0200
TZNAME:EET
DTSTART:20251026T010000
END:STANDARD
BEGIN:DAYLIGHT
TZOFFSETFROM:+0200
TZOFFSETTO:+0300
TZNAME:EEST
DTSTART:20260329T010000
END:DAYLIGHT
BEGIN:STANDARD
TZOFFSETFROM:+0300
TZOFFSETTO:+0200
TZNAME:EET
DTSTART:20261025T010000
END:STANDARD
BEGIN:DAYLIGHT
TZOFFSETFROM:+0200
TZOFFSETTO:+0300
TZNAME:EEST
DTSTART:20270328T010000
END:DAYLIGHT
BEGIN:STANDARD
TZOFFSETFROM:+0300
TZOFFSETTO:+0200
TZNAME:EET
DTSTART:20271031T010000
END:STANDARD
END:VTIMEZONE
BEGIN:VEVENT
DTSTART;TZID=Europe/Athens:20260408T183000
DTEND;TZID=Europe/Athens:20260408T193000
DTSTAMP:20260423T231420
CREATED:20260330T075743Z
LAST-MODIFIED:20260409T075827Z
UID:39163-1775673000-1775676600@www.libver.gr
SUMMARY:"Το τρένο θα έχει καθυστέρηση…. Ένα όνειρο σαν τη ζωή"  θεατρικό δρώμενο στη Δημόσια Κεντρική Βιβλιοθήκη της Βέροιας
DESCRIPTION:Η “Κυριώτισσας Ουτοπία”\, παρουσιάζει τη Μ. Τετάρτη 8 Απριλίου και ώρα 18.30\,\nστη Δημόσια Κεντρική Βιβλιοθήκη Βέροιας\, το θεατρικό δρώμενο με τίτλο: \n“Το τρένο θα έχει καθυστέρηση…. Ένα όνειρο σαν τη ζωή” \nΜια εργαζόμενη νεαρή γυναίκα\, φθάνει αγχωμένη στον σιδηροδρομικό σταθμό… \nΘέλει να περάσει το Σαββατοκύριακο\, μετά από καιρό\, με τους δικούς της … \nΠεριμένοντας το τρένο που έχει καθυστέρηση\, διαδραματίζονται διάφορα γεγονότα\, στα οποία εμπλέκονται κι άλλοι ταξιδιώτες\, εικόνες\, ήχοι\, συναισθήματα\, ιδέες\, συνθήματα\, συμβολισμοί\, προβληματισμοί. \nΗ νέα γυναίκα απλώνει τα κομμάτια του παζλ\, και μας συμπαρασύρει στον δικό της κόσμο\, που όμως είναι και δικός μας. \nΜέσα από τη διαρκή ανταλλαγή απόψεων και ιδεών και με την υποστηρικτική διάθεση όλης της ομάδας\, στήθηκε το θεατρικό δρώμενο\, αφορμή του οποίου υπήρξε το συγκλονιστικό γεγονός στα Τέμπη το 2023\, που ακόμη θλίβει και εξοργίζει\, ένα “τραύμα” που δεν κλείνει και σημάδεψε την κοινωνική συνείδηση… \nΕρμηνεύουν με σειρά εμφάνισης: \n\nΓιώτα Σαββαΐδου\nΓιάννης Σαββαΐδης\nΕιρήνη Κωστοπούλου\nΑσικίδου Τασούλα\nΑγγέλογλου Γιάννης\nΒίκυ Κατάκη\nΌλγα Αβραμίδου\nΜαίρη Τσίγκα\nΕλένη Μούμογλου\nΧρύσα Σαββαΐδου\n\nΚείμενο – Σκηνοθεσία: Ειρήνη Κωστοπούλου \n“Το τρένο θα έχει καθυστέρηση…. Ένα όνειρο σαν τη ζωή” \n8 Απριλίου\, 18.30\, Μ. Τετάρτη\, Δημόσια Κεντρική Βιβλιοθήκη Βέροιας
URL:https://www.libver.gr/event/%cf%84%ce%bf-%cf%84%cf%81%ce%ad%ce%bd%ce%bf-%ce%b8%ce%b1-%ce%ad%cf%87%ce%b5%ce%b9-%ce%ba%ce%b1%ce%b8%cf%85%cf%83%cf%84%ce%ad%cf%81%ce%b7%cf%83%ce%b7-%ce%ad%ce%bd%ce%b1-%cf%8c%ce%bd%ce%b5/
CATEGORIES:Εκδήλωση
END:VEVENT
BEGIN:VEVENT
DTSTART;TZID=Europe/Athens:20260425T113000
DTEND;TZID=Europe/Athens:20260425T130000
DTSTAMP:20260423T231420
CREATED:20260422T135827Z
LAST-MODIFIED:20260422T135827Z
UID:39209-1777116600-1777122000@www.libver.gr
SUMMARY:ΤΑ ΠΑΙΔΙΑ ΩΣ ΚΑΘΡΕΦΤΗΣ ΤΟΥ ΕΑΥΤΟΥ ΜΟΥ ενημερωτική συνάντηση  για γονείς και εκπαιδευτικούς στη Δημόσια Κεντρική Βιβλιοθήκη της Βέροιας
DESCRIPTION:Τα παιδιά μας… μας δείχνουν κάτι; \nΜας “καθρεφτίζουν” συμπεριφορές\, συναισθήματα\, αντιδράσεις; \nΚαι τελικά… τι λέει το παιδί για εμάς; \n  \nΤο Σάββατο 25 Απριλίου 2026\, στις 11.30 το πρωί\, στην αίθουσα εκδηλώσεων της Δημόσιας Κεντρικής Βιβλιοθήκης της Βέροιας θα πραγματοποιηθεί η 5η συνάντηση που διοργανώνει το Κέντρο Ειδικών Θεραπειών “Ενσυναίσθηση” με τίτλο «Τα παιδιά ως καθρέφτης του εαυτού μας» \n  \nΜια βιωματική συνάντηση όπου θα προσεγγίσουμε τη σχέση γονέα–παιδιού μέσα από μια διαφορετική οπτική: \nεκεί όπου το παιδί δεν είναι μόνο αυτό που βλέπουμε… αλλά και αυτό που μας δείχνει. \nΘα μιλήσουμε για: \n\nτη σύνδεση γονέα – παιδιού\nτα συναισθήματα πίσω από τις συμπεριφορές\nτον ρόλο του γονέα στη διαμόρφωση της σχέσης\nκαι το πώς μπορούμε να κατανοήσουμε καλύτερα τον εαυτό μας μέσα από το παιδί μας\n\nΓιατί πολλές φορές… αυτό που μας δυσκολεύει\, είναι και αυτό που έχουμε ανάγκη να καταλάβουμε. \n  \nΓεωργουλά Δήμητρα – Ψυχολόγος \nΧρύσα Μπέκα – Ψυχολόγος / Ψυχοδραματίστρια \nhttps://en-synaisthisi.gr/ \n  \nΗ είσοδος είναι ελεύθερη για όλους
URL:https://www.libver.gr/event/%cf%84%ce%b1-%cf%80%ce%b1%ce%b9%ce%b4%ce%b9%ce%b1-%cf%89%cf%83-%ce%ba%ce%b1%ce%b8%cf%81%ce%b5%cf%86%cf%84%ce%b7%cf%83-%cf%84%ce%bf%cf%85-%ce%b5%ce%b1%cf%85%cf%84%ce%bf%cf%85-%ce%bc%ce%bf%cf%85-%ce%b5/
CATEGORIES:Εκδήλωση
END:VEVENT
BEGIN:VEVENT
DTSTART;TZID=Europe/Athens:20260427T180000
DTEND;TZID=Europe/Athens:20260427T193000
DTSTAMP:20260423T231420
CREATED:20260422T141041Z
LAST-MODIFIED:20260422T141041Z
UID:39215-1777312800-1777318200@www.libver.gr
SUMMARY:ΤΑ ΠΡΩΤΑ ΜΟΥ ΠΟΙΗΜΑΤΑ ΤΟ ΝΕΟ ΒΙΒΛΙΟ ΤΗΣ ΧΑΪΔΩΣ ΜΠΑΤΣΑΡΑ – ΤΖΗΚΑ ΠΑΡΟΥΣΙΑΖΕΤΑΙ ΣΤΗ ΒΕΡΟΙΑ
DESCRIPTION:Μόλις κυκλοφόρησε από τις εκδόσεις Ἀνάλεκτο το νέο βιβλίο της Χάιδως Μπατσαρά – Τζήκα\, «Τα πρώτα μου ποιήματα»\, μία εικονογραφημένη συλλογή ποιημάτων για παιδιά προσχολικής και πρώτης σχολικής ηλικίας\, που δημιουργήθηκε με παιδαγωγική ευαισθησία\, ως αποτέλεσμα μακρόχρονης εμπειρίας στη διδασκαλία. \nΗ εκπαιδευτικός Περιστέρα Κάτανα\, που προλογίζει το βιβλίο γράφει μεταξύ άλλων : «Τα ποιήματα αυτής της συλλογής γεννήθηκαν από τη μακρά πορεία της κ. Μπατσαρά\, δίπλα στα παιδιά\, ύστερα από χρόνια ακρόασης\, παρατήρησης και ουσιαστικής καθοδήγησης. Η ίδια δεν έπαψε ποτέ να αφουγκράζεται τις παιδικές φωνές\, να αναγνωρίζει τις απορίες τους\, να χαίρεται τις μικρές τους κατακτήσεις. Αυτή η βαθιά\, βιωματική σχέση με τον κόσμο του παιδιού μεταμορφώνεται εδώ σε ποιητικό λόγο. (…) Η συλλογή αυτή αποτελεί φυσική συνέχεια μιας ζωής αφιερωμένης στη διδασκαλία. Είναι η ίδια παιδαγωγική ευαισθησία και ο ίδιος σεβασμός προς το παιδί\, αποτυπωμένα πλέον σε ποιητική μορφή». \nΤο βιβλίο θα παρουσιαστεί στη Δημόσια Κεντρική Βιβλιοθήκη Βέροιας τη Δευτέρα 27 Απριλίου 2026\, ώρα 6.00 μ.μ. Για το βιβλίο θα μιλήσουν: η νηπιαγωγός Βασιλική – Παρασκευή Αγγελή\, η νομικός-συγγραφέας Άννα Γκασνάκη\, η δασκάλα Περιστέρα Κάτανα καθώς και η ίδια η συγγραφέας. Συντονίζει η συνταξιούχος νηπιαγωγός Ελένη Μουστιάκα – Μπατσαρά. \nΗ εκδήλωση πραγματοποιείται σε συνεργασία με τη Δημόσια Κεντρική Βιβλιοθήκη Βέροιας και το βιβλιοπωλείο «Ηλιοτρόπιο». \n  \nΗ Χάιδω Ν. Μπατσαρά-Τζήκα γεννήθηκε το 1951\, στο Πολυδένδρι Βεροίας\, όπου έζησε\, ως την ηλικία των 12 ετών. Είναι πτυχιούχος της Παιδαγωγικής Ακαδημίας Θεσσαλονίκης και υπηρέτησε επί 25 χρόνια\, ως δασκάλα\, σε διάφορα δημοτικά σχολεία του νομού Ημαθίας και ως Υπεύθυνη Περιβαλλοντικής Εκπαίδευσης Α/βάθμιας Εκπαίδευσης Ημαθίας. Παρακολούθησε μαθήματα δημιουργικής γραφής\, καθώς και μαθήματα επιμέλειας και διόρθωσης κειμένου\, του ΕΚΠΑ. Υπήρξε αιρετό μέλος του Δ.Σ. Δασκάλων και Νηπιαγωγών Ημαθίας και αντιπρόσωπος σε γενικές συνελεύσεις του κλάδου. Εκλέχθηκε δημοτική σύμβουλος του Δήμου Βέροιας κι επί τέσσερα έτη (2003-2006) υπηρέτησε ως αντιπρόεδρος του δημοτικού συμβουλίου\, πρόεδρος\, αντιπρόεδρος και μέλος του διοικητικού συμβουλίου δημοτικών επιχειρήσεων και νομικών προσώπων του Δήμου\, καθώς και αντιδήμαρχος παιδείας και κοινωνικής πολιτικής. Έχει συγγράψει διηγήματα\, ποιήματα\, καθώς και πονήματα λαογραφικού ενδιαφέροντος. Είναι συνταξιούχος και έχει τέσσερα παιδιά και τέσσερα εγγόνια. Ζει στη Βέροια. \nΈχει εκδώσει τα βιβλία: «Βεργίνα – Πέλλα – Λευκάδια – Δίον»\, σε συνεργασία με τον δάσκαλο Παναγιώτη Παπαϊωάννου\, ως φωτογράφο (εκδ. Ομοσπονδίας Πολιτιστικών Συλλόγων Ημαθίας\, 1994)\, «Βέροια\, οδοιπορικό μέσα στην πόλη»\, σε συνεργασία με τον δάσκαλο Παναγιώτη Παπαϊωάννου\, ως φωτογράφο (Βέροια 2002)\, «Η Αποκριά στο Πολυδένδρι Βεροίας» (εκδ. Πολιτιστικού Συλλόγου Πολυδενδρίου\, 2018)\, «Η Μαρίνα» (Βέροια 2023)\, «Χωριό μου\, όμορφο» (εκδ. Super Course\, 2025).
URL:https://www.libver.gr/event/%cf%84%ce%b1-%cf%80%cf%81%cf%89%cf%84%ce%b1-%ce%bc%ce%bf%cf%85-%cf%80%ce%bf%ce%b9%ce%b7%ce%bc%ce%b1%cf%84%ce%b1-%cf%84%ce%bf-%ce%bd%ce%b5%ce%bf-%ce%b2%ce%b9%ce%b2%ce%bb%ce%b9%ce%bf-%cf%84%ce%b7%cf%83/
CATEGORIES:Εκδήλωση
END:VEVENT
END:VCALENDAR