BEGIN:VCALENDAR
VERSION:2.0
PRODID:-//Δημόσια Κεντρική Βιβλιοθήκη Βέροιας - ECPv6.15.20//NONSGML v1.0//EN
CALSCALE:GREGORIAN
METHOD:PUBLISH
X-WR-CALNAME:Δημόσια Κεντρική Βιβλιοθήκη Βέροιας
X-ORIGINAL-URL:https://www.libver.gr
X-WR-CALDESC:Events for Δημόσια Κεντρική Βιβλιοθήκη Βέροιας
REFRESH-INTERVAL;VALUE=DURATION:PT1H
X-Robots-Tag:noindex
X-PUBLISHED-TTL:PT1H
BEGIN:VTIMEZONE
TZID:Europe/Athens
BEGIN:DAYLIGHT
TZOFFSETFROM:+0200
TZOFFSETTO:+0300
TZNAME:EEST
DTSTART:20240331T010000
END:DAYLIGHT
BEGIN:STANDARD
TZOFFSETFROM:+0300
TZOFFSETTO:+0200
TZNAME:EET
DTSTART:20241027T010000
END:STANDARD
BEGIN:DAYLIGHT
TZOFFSETFROM:+0200
TZOFFSETTO:+0300
TZNAME:EEST
DTSTART:20250330T010000
END:DAYLIGHT
BEGIN:STANDARD
TZOFFSETFROM:+0300
TZOFFSETTO:+0200
TZNAME:EET
DTSTART:20251026T010000
END:STANDARD
BEGIN:DAYLIGHT
TZOFFSETFROM:+0200
TZOFFSETTO:+0300
TZNAME:EEST
DTSTART:20260329T010000
END:DAYLIGHT
BEGIN:STANDARD
TZOFFSETFROM:+0300
TZOFFSETTO:+0200
TZNAME:EET
DTSTART:20261025T010000
END:STANDARD
END:VTIMEZONE
BEGIN:VEVENT
DTSTART;TZID=Europe/Athens:20251117T150000
DTEND;TZID=Europe/Athens:20251117T180000
DTSTAMP:20260420T073903
CREATED:20251112T153805Z
LAST-MODIFIED:20251112T154106Z
UID:38807-1763391600-1763402400@www.libver.gr
SUMMARY:Τεχνητή Νοημοσύνη (AI) για εκπαιδευτικούς 1/2
DESCRIPTION:Εισαγωγή στην Τεχνητή Νοημοσύνη (AI) και πρακτικές μεθόδους ενσωμάτωσής της στην εκπαιδευτική διαδικασία.Στόχος είναι να ενδυναμώσουμε τους εκπαιδευτικούς με σύγχρονες γνώσεις\, ώστε να προετοιμάσουν τους μαθητές και τις μαθήτριες για το μέλλον της μάθησης και της δημιουργίας. \n👉 Συμπληρώστε τη φόρμα συμμετοχής για να δηλώσετε το ενδιαφέρον σας και να συμμετάσχετε σε μια δράση που προάγει την ψηφιακή ασφάλεια και την υπεύθυνη χρήση της τεχνολογίας.
URL:https://www.libver.gr/event/%cf%84%ce%b5%cf%87%ce%bd%ce%b7%cf%84%ce%ae-%ce%bd%ce%bf%ce%b7%ce%bc%ce%bf%cf%83%cf%8d%ce%bd%ce%b7-ai-%ce%b3%ce%b9%ce%b1-%ce%b5%ce%ba%cf%80%ce%b1%ce%b9%ce%b4%ce%b5%cf%85%cf%84%ce%b9%ce%ba%ce%bf%cf%8d/
CATEGORIES:Εργαστήριο
END:VEVENT
BEGIN:VEVENT
DTSTART;TZID=Europe/Athens:20251117T180000
DTEND;TZID=Europe/Athens:20251117T194500
DTSTAMP:20260420T073903
CREATED:20251112T153422Z
LAST-MODIFIED:20251112T153432Z
UID:38801-1763402400-1763408700@www.libver.gr
SUMMARY:Τεχνητή Νοημοσύνη (AI) για για Γονείς 1/2
DESCRIPTION:Η ψηφιακή εποχή προσφέρει απεριόριστες ευκαιρίες μάθησης και δημιουργίας\, αλλά φέρνει και νέες προκλήσεις για την ασφάλεια των παιδιών στο διαδίκτυο και τη χρήση της Τεχνητής Νοημοσύνης (AI).Μέσα από ειδικά σχεδιασμένα μαθήματα\, οι γονείς θα αποκτήσουν πρακτικές γνώσεις για να καθοδηγήσουν υπεύθυνα τα παιδιά τους σε έναν κόσμο όπου η τεχνολογία και η ασφάλεια συνυπάρχουν. \n👉 Συμπληρώστε τη φόρμα συμμετοχής για να δηλώσετε το ενδιαφέρον σας και να συμμετάσχετε σε μια δράση που προάγει την ψηφιακή ασφάλεια και την υπεύθυνη χρήση της τεχνολογίας.
URL:https://www.libver.gr/event/%cf%84%ce%b5%cf%87%ce%bd%ce%b7%cf%84%ce%ae-%ce%bd%ce%bf%ce%b7%ce%bc%ce%bf%cf%83%cf%8d%ce%bd%ce%b7-ai-%ce%b3%ce%b9%ce%b1-%ce%b3%ce%b9%ce%b1-%ce%b3%ce%bf%ce%bd%ce%b5%ce%af%cf%82/
CATEGORIES:Εργαστήριο
END:VEVENT
BEGIN:VEVENT
DTSTART;TZID=Europe/Athens:20251119T150000
DTEND;TZID=Europe/Athens:20251119T180000
DTSTAMP:20260420T073903
CREATED:20251112T153923Z
LAST-MODIFIED:20251112T154128Z
UID:38809-1763564400-1763575200@www.libver.gr
SUMMARY:Τεχνητή Νοημοσύνη (AI) για εκπαιδευτικούς 2/2
DESCRIPTION:Εισαγωγή στην Τεχνητή Νοημοσύνη (AI) και πρακτικές μεθόδους ενσωμάτωσής της στην εκπαιδευτική διαδικασία.Στόχος είναι να ενδυναμώσουμε τους εκπαιδευτικούς με σύγχρονες γνώσεις\, ώστε να προετοιμάσουν τους μαθητές και τις μαθήτριες για το μέλλον της μάθησης και της δημιουργίας. \n👉 Συμπληρώστε τη φόρμα συμμετοχής για να δηλώσετε το ενδιαφέρον σας και να συμμετάσχετε σε μια δράση που προάγει την ψηφιακή ασφάλεια και την υπεύθυνη χρήση της τεχνολογίας.
URL:https://www.libver.gr/event/%cf%84%ce%b5%cf%87%ce%bd%ce%b7%cf%84%ce%ae-%ce%bd%ce%bf%ce%b7%ce%bc%ce%bf%cf%83%cf%8d%ce%bd%ce%b7-ai-%ce%b3%ce%b9%ce%b1-%ce%b5%ce%ba%cf%80%ce%b1%ce%b9%ce%b4%ce%b5%cf%85%cf%84%ce%b9%ce%ba%ce%bf%cf%8d-2/
CATEGORIES:Εργαστήριο
END:VEVENT
BEGIN:VEVENT
DTSTART;TZID=Europe/Athens:20251119T180000
DTEND;TZID=Europe/Athens:20251119T194500
DTSTAMP:20260420T073903
CREATED:20251112T153457Z
LAST-MODIFIED:20251112T153635Z
UID:38805-1763575200-1763581500@www.libver.gr
SUMMARY:Τεχνητή Νοημοσύνη (AI) για για Γονείς 2/2
DESCRIPTION:Η ψηφιακή εποχή προσφέρει απεριόριστες ευκαιρίες μάθησης και δημιουργίας\, αλλά φέρνει και νέες προκλήσεις για την ασφάλεια των παιδιών στο διαδίκτυο και τη χρήση της Τεχνητής Νοημοσύνης (AI).Μέσα από ειδικά σχεδιασμένα μαθήματα\, οι γονείς θα αποκτήσουν πρακτικές γνώσεις για να καθοδηγήσουν υπεύθυνα τα παιδιά τους σε έναν κόσμο όπου η τεχνολογία και η ασφάλεια συνυπάρχουν. \n👉 Συμπληρώστε τη φόρμα συμμετοχής για να δηλώσετε το ενδιαφέρον σας και να συμμετάσχετε σε μια δράση που προάγει την ψηφιακή ασφάλεια και την υπεύθυνη χρήση της τεχνολογίας.
URL:https://www.libver.gr/event/%cf%84%ce%b5%cf%87%ce%bd%ce%b7%cf%84%ce%ae-%ce%bd%ce%bf%ce%b7%ce%bc%ce%bf%cf%83%cf%8d%ce%bd%ce%b7-ai-%ce%b3%ce%b9%ce%b1-%ce%b3%ce%b9%ce%b1-%ce%b3%ce%bf%ce%bd%ce%b5%ce%af%cf%82-2-2/
CATEGORIES:Εργαστήριο
END:VEVENT
BEGIN:VEVENT
DTSTART;TZID=Europe/Athens:20251122T103000
DTEND;TZID=Europe/Athens:20251122T113000
DTSTAMP:20260420T073903
CREATED:20260210T105652Z
LAST-MODIFIED:20260210T105706Z
UID:39025-1763807400-1763811000@www.libver.gr
SUMMARY:Λένε πως κάπου στο δάσος\, οι πέτρες ψιθυρίζουν…
DESCRIPTION:Ακολούθησε τους ήχους της γης και ανακάλυψε τι κρύβεται πίσω από τους ψιθύρους!
URL:https://www.libver.gr/event/%ce%bb%ce%ad%ce%bd%ce%b5-%cf%80%cf%89%cf%82-%ce%ba%ce%ac%cf%80%ce%bf%cf%85-%cf%83%cf%84%ce%bf-%ce%b4%ce%ac%cf%83%ce%bf%cf%82-%ce%bf%ce%b9-%cf%80%ce%ad%cf%84%cf%81%ce%b5%cf%82-%cf%88%ce%b9%ce%b8%cf%85/
CATEGORIES:Εργαστήριο
END:VEVENT
BEGIN:VEVENT
DTSTART;TZID=Europe/Athens:20251124T170000
DTEND;TZID=Europe/Athens:20251124T180000
DTSTAMP:20260420T073903
CREATED:20260210T105827Z
LAST-MODIFIED:20260210T105827Z
UID:39028-1764003600-1764007200@www.libver.gr
SUMMARY:Το Βόρειο Σέλας…ξυπνά!
DESCRIPTION:Τα μαγικά φώτα του ουρανού χάθηκαν και η νύχτα έγινε πιο σκοτεινή από ποτέ…\nΜόνο όποιος τολμήσει να ακολουθήσει τα ίχνη του φωτός θα ανακαλύψει ποιο μυστικό κρύβει το Βόρειο Σέλας!
URL:https://www.libver.gr/event/%cf%84%ce%bf-%ce%b2%cf%8c%cf%81%ce%b5%ce%b9%ce%bf-%cf%83%ce%ad%ce%bb%ce%b1%cf%82%ce%be%cf%85%cf%80%ce%bd%ce%ac/
CATEGORIES:Εργαστήριο
END:VEVENT
BEGIN:VEVENT
DTSTART;TZID=Europe/Athens:20251126T170000
DTEND;TZID=Europe/Athens:20251126T190000
DTSTAMP:20260420T073903
CREATED:20251117T081500Z
LAST-MODIFIED:20251117T082406Z
UID:38822-1764176400-1764183600@www.libver.gr
SUMMARY:Εργαστήριο Comics – Οι Ήρωες μέσα στον Χρόνο 💬🖊️
DESCRIPTION:Το American Space της Δημόσιας Κεντρικής Βιβλιοθήκης Βέροιας\, σε συνεργασία με την Athens Comics Library\, διοργανώνει ένα δημιουργικό εργαστήριο comics για εκπαιδευτικούς και μαθητές\, όπου η ιστορία συναντά την τέχνη της αφήγησης. \n \nΜε αφορμή την 250η επέτειο της Αμερικανικής Ανεξαρτησίας\, οι συμμετέχοντες θα γνωρίσουν ιστορικές προσωπικότητες και γεγονότα που συνδέονται με την πορεία μιας χώρας προς την ανεξαρτησία και την εξέλιξή της μέσα στον χρόνο. Οι εκπαιδευτικοί και οι  μαθητές θα ανακαλύψουν πώς οι πραγματικές ιστορίες μπορούν να μετατραπούν σε ηρωικές αφηγήσεις μέσα από το μέσο των comics. \nΜε την καθοδήγηση της Athens Comics Library\, οι εκπαιδευτικοί και τα παιδιά θα δημιουργήσουν τις δικές τους πρωτότυπες ιστορίες\, καλλιεργώντας τη φαντασία\, τη συνεργασία και τις δεξιότητες οπτικής αφήγησης. Στο τέλος\, οι δημιουργίες τους θα συγκεντρωθούν σε μια ψηφιακή έκδοση. \nΠληροφορίες Συμμετοχής \n\nΗμερομηνία: 26 Νοεμβρίου 2025\nΏρα: 17:00 – 19:00\nΤόπος: Αίθουσα Εκδηλώσεων | Δημόσια Κεντρική Βιβλιοθήκη Βέροιας\nΚόστος Συμμετοχής: Δωρεάν\nΑπευθύνεται σε: Εκπαιδευτικούς και μαθητές Δ – ΣΤ΄ Δημοτικού\, Γυμνασίου και Λυκείου\nΕγγραφές:  https://registrations.libver.gr \n Πληροφορίες: vasileia.vaxevani@gmail.com\n\n  \nℹ️ Οδηγίες για τη χρήση του συστήματος εγγραφών μπορείτε να βρείτε στη σελίδα:👉 https://www.libver.gr/registrations-web-app/ \nΗ Athens Comics Library\, με πολυετή εμπειρία στην εκπαίδευση μέσω comics σε σχολεία και πολιτιστικούς φορείς\, προωθεί τη μάθηση μέσα από την εικόνα\, την αφήγηση και τη δημιουργική έκφραση. \nΕπιμέλεια Προγράμματος \nAthens Comics Library\, με την υποστήριξη της Πρεσβείας των Η.Π.Α. στην Αθήνα\, στο πλαίσιο του εορτασμού America250 (https://america250.org).
URL:https://www.libver.gr/event/%ce%b5%cf%81%ce%b3%ce%b1%cf%83%cf%84%ce%ae%cf%81%ce%b9%ce%bf-comics-%ce%bf%ce%b9-%ce%ae%cf%81%cf%89%ce%b5%cf%82-%ce%bc%ce%ad%cf%83%ce%b1-%cf%83%cf%84%ce%bf%ce%bd-%cf%87%cf%81%cf%8c%ce%bd/
CATEGORIES:American Space Veria,Εργαστήριο
END:VEVENT
END:VCALENDAR