BEGIN:VCALENDAR
VERSION:2.0
PRODID:-//Δημόσια Κεντρική Βιβλιοθήκη Βέροιας - ECPv6.15.20//NONSGML v1.0//EN
CALSCALE:GREGORIAN
METHOD:PUBLISH
X-WR-CALNAME:Δημόσια Κεντρική Βιβλιοθήκη Βέροιας
X-ORIGINAL-URL:https://www.libver.gr
X-WR-CALDESC:Events for Δημόσια Κεντρική Βιβλιοθήκη Βέροιας
REFRESH-INTERVAL;VALUE=DURATION:PT1H
X-Robots-Tag:noindex
X-PUBLISHED-TTL:PT1H
BEGIN:VTIMEZONE
TZID:Europe/Athens
BEGIN:DAYLIGHT
TZOFFSETFROM:+0200
TZOFFSETTO:+0300
TZNAME:EEST
DTSTART:20240331T010000
END:DAYLIGHT
BEGIN:STANDARD
TZOFFSETFROM:+0300
TZOFFSETTO:+0200
TZNAME:EET
DTSTART:20241027T010000
END:STANDARD
BEGIN:DAYLIGHT
TZOFFSETFROM:+0200
TZOFFSETTO:+0300
TZNAME:EEST
DTSTART:20250330T010000
END:DAYLIGHT
BEGIN:STANDARD
TZOFFSETFROM:+0300
TZOFFSETTO:+0200
TZNAME:EET
DTSTART:20251026T010000
END:STANDARD
BEGIN:DAYLIGHT
TZOFFSETFROM:+0200
TZOFFSETTO:+0300
TZNAME:EEST
DTSTART:20260329T010000
END:DAYLIGHT
BEGIN:STANDARD
TZOFFSETFROM:+0300
TZOFFSETTO:+0200
TZNAME:EET
DTSTART:20261025T010000
END:STANDARD
END:VTIMEZONE
BEGIN:VEVENT
DTSTART;TZID=Europe/Athens:20251220T100000
DTEND;TZID=Europe/Athens:20251220T110000
DTSTAMP:20260420T074501
CREATED:20260210T101321Z
LAST-MODIFIED:20260210T101321Z
UID:39011-1766224800-1766228400@www.libver.gr
SUMMARY:Το Αίνιγμα της Λευκής Καμινάδας
DESCRIPTION:Μια καμινάδα μέσα στο δάσος μας καλεί να λύσουμε το αίνιγμα της. Ο χιονισμένος καπνός της ψιθυρίζει μυστικά και κρυφές ιστορίες\, περιμένοντας να ανακαλυφθούν!\nΜε την Έλενα Αντωνιάδου\nΓια παιδιά 7-12 ετών. Με προεγγραφή
URL:https://www.libver.gr/event/%cf%84%ce%bf-%ce%b1%ce%af%ce%bd%ce%b9%ce%b3%ce%bc%ce%b1-%cf%84%ce%b7%cf%82-%ce%bb%ce%b5%cf%85%ce%ba%ce%ae%cf%82-%ce%ba%ce%b1%ce%bc%ce%b9%ce%bd%ce%ac%ce%b4%ce%b1%cf%82/
CATEGORIES:Εργαστήριο
END:VEVENT
END:VCALENDAR