BEGIN:VCALENDAR
VERSION:2.0
PRODID:-//Δημόσια Κεντρική Βιβλιοθήκη Βέροιας - ECPv6.15.20//NONSGML v1.0//EN
CALSCALE:GREGORIAN
METHOD:PUBLISH
X-WR-CALNAME:Δημόσια Κεντρική Βιβλιοθήκη Βέροιας
X-ORIGINAL-URL:https://www.libver.gr
X-WR-CALDESC:Events for Δημόσια Κεντρική Βιβλιοθήκη Βέροιας
REFRESH-INTERVAL;VALUE=DURATION:PT1H
X-Robots-Tag:noindex
X-PUBLISHED-TTL:PT1H
BEGIN:VTIMEZONE
TZID:Europe/Athens
BEGIN:DAYLIGHT
TZOFFSETFROM:+0200
TZOFFSETTO:+0300
TZNAME:EEST
DTSTART:20240331T010000
END:DAYLIGHT
BEGIN:STANDARD
TZOFFSETFROM:+0300
TZOFFSETTO:+0200
TZNAME:EET
DTSTART:20241027T010000
END:STANDARD
BEGIN:DAYLIGHT
TZOFFSETFROM:+0200
TZOFFSETTO:+0300
TZNAME:EEST
DTSTART:20250330T010000
END:DAYLIGHT
BEGIN:STANDARD
TZOFFSETFROM:+0300
TZOFFSETTO:+0200
TZNAME:EET
DTSTART:20251026T010000
END:STANDARD
BEGIN:DAYLIGHT
TZOFFSETFROM:+0200
TZOFFSETTO:+0300
TZNAME:EEST
DTSTART:20260329T010000
END:DAYLIGHT
BEGIN:STANDARD
TZOFFSETFROM:+0300
TZOFFSETTO:+0200
TZNAME:EET
DTSTART:20261025T010000
END:STANDARD
BEGIN:DAYLIGHT
TZOFFSETFROM:+0200
TZOFFSETTO:+0300
TZNAME:EEST
DTSTART:20270328T010000
END:DAYLIGHT
BEGIN:STANDARD
TZOFFSETFROM:+0300
TZOFFSETTO:+0200
TZNAME:EET
DTSTART:20271031T010000
END:STANDARD
END:VTIMEZONE
BEGIN:VEVENT
DTSTART;TZID=Europe/Athens:20251217T170000
DTEND;TZID=Europe/Athens:20251217T180000
DTSTAMP:20260423T014115
CREATED:20260210T100738Z
LAST-MODIFIED:20260210T100738Z
UID:39007-1765990800-1765994400@www.libver.gr
SUMMARY:«Χριστουγεννιάτικη Αποστολή: Σώζουμε τη Γιορτή!»
DESCRIPTION:Κάποιος σαμποτάρει το έργο του Αϊ Βασίλη! Θα προλάβουν\, άραγε\, οι κυνηγοί μυστηρίων να τον βοηθήσουν και να γίνουν όλα στην ώρα τους;\nΓια παιδιά 5 έως 9 ετών. Με προεγγραφή.
URL:https://www.libver.gr/event/%cf%87%cf%81%ce%b9%cf%83%cf%84%ce%bf%cf%85%ce%b3%ce%b5%ce%bd%ce%bd%ce%b9%ce%ac%cf%84%ce%b9%ce%ba%ce%b7-%ce%b1%cf%80%ce%bf%cf%83%cf%84%ce%bf%ce%bb%ce%ae-%cf%83%cf%8e%ce%b6%ce%bf%cf%85%ce%bc/
CATEGORIES:Εργαστήριο
END:VEVENT
BEGIN:VEVENT
DTSTART;TZID=Europe/Athens:20251217T183000
DTEND;TZID=Europe/Athens:20251217T193000
DTSTAMP:20260423T014115
CREATED:20260210T101010Z
LAST-MODIFIED:20260210T101010Z
UID:39009-1765996200-1765999800@www.libver.gr
SUMMARY:Στα ίχνη των χαμένων ξωτικών
DESCRIPTION:Μια ανεξήγητη σιωπή απλώνεται στο εργαστήρι του Αϊ-Βασίλη… Τα ξωτικά έχουν χαθεί και το χιόνι φωτίζεται από ασημένια ίχνη και μικρές λαμπερές ενδείξεις.\nΆλλο ένα μυστήριο\, αναζητά λύση!\nΓια παιδιά 6 έως 11 ετών. Με προεγγραφή
URL:https://www.libver.gr/event/%cf%83%cf%84%ce%b1-%ce%af%cf%87%ce%bd%ce%b7-%cf%84%cf%89%ce%bd-%cf%87%ce%b1%ce%bc%ce%ad%ce%bd%cf%89%ce%bd-%ce%be%cf%89%cf%84%ce%b9%ce%ba%cf%8e%ce%bd/
CATEGORIES:Εργαστήριο
END:VEVENT
BEGIN:VEVENT
DTSTART;TZID=Europe/Athens:20251220T100000
DTEND;TZID=Europe/Athens:20251220T110000
DTSTAMP:20260423T014115
CREATED:20260210T101321Z
LAST-MODIFIED:20260210T101321Z
UID:39011-1766224800-1766228400@www.libver.gr
SUMMARY:Το Αίνιγμα της Λευκής Καμινάδας
DESCRIPTION:Μια καμινάδα μέσα στο δάσος μας καλεί να λύσουμε το αίνιγμα της. Ο χιονισμένος καπνός της ψιθυρίζει μυστικά και κρυφές ιστορίες\, περιμένοντας να ανακαλυφθούν!\nΜε την Έλενα Αντωνιάδου\nΓια παιδιά 7-12 ετών. Με προεγγραφή
URL:https://www.libver.gr/event/%cf%84%ce%bf-%ce%b1%ce%af%ce%bd%ce%b9%ce%b3%ce%bc%ce%b1-%cf%84%ce%b7%cf%82-%ce%bb%ce%b5%cf%85%ce%ba%ce%ae%cf%82-%ce%ba%ce%b1%ce%bc%ce%b9%ce%bd%ce%ac%ce%b4%ce%b1%cf%82/
CATEGORIES:Εργαστήριο
END:VEVENT
BEGIN:VEVENT
DTSTART;TZID=Europe/Athens:20251222T170000
DTEND;TZID=Europe/Athens:20251222T180000
DTSTAMP:20260423T014115
CREATED:20260210T101659Z
LAST-MODIFIED:20260210T101720Z
UID:39013-1766422800-1766426400@www.libver.gr
SUMMARY:Συναγερμός στο χιονισμένο δάσος!
DESCRIPTION:Κάτι κινείται ανάμεσα στα δέντρα…. Τι μπορεί να συμβαίνει;\nΓια παιδιά 7-12 ετών. Με προεγγραφή.
URL:https://www.libver.gr/event/%cf%83%cf%85%ce%bd%ce%b1%ce%b3%ce%b5%cf%81%ce%bc%cf%8c%cf%82-%cf%83%cf%84%ce%bf-%cf%87%ce%b9%ce%bf%ce%bd%ce%b9%cf%83%ce%bc%ce%ad%ce%bd%ce%bf-%ce%b4%ce%ac%cf%83%ce%bf%cf%82/
CATEGORIES:Εργαστήριο
END:VEVENT
BEGIN:VEVENT
DTSTART;TZID=Europe/Athens:20251222T183000
DTEND;TZID=Europe/Athens:20251222T194500
DTSTAMP:20260423T014115
CREATED:20260210T101912Z
LAST-MODIFIED:20260210T101912Z
UID:39015-1766428200-1766432700@www.libver.gr
SUMMARY:Ένα δέντρο μουσικό! Κατασκευή Lego Spike
DESCRIPTION:Μπορεί ένα δέντρο πλαστικό\, να ΄ναι όμορφο και μελωδικό;\nΓια παιδιά 7-11 ετών. Με προεγγραφή.
URL:https://www.libver.gr/event/%ce%ad%ce%bd%ce%b1-%ce%b4%ce%ad%ce%bd%cf%84%cf%81%ce%bf-%ce%bc%ce%bf%cf%85%cf%83%ce%b9%ce%ba%cf%8c-%ce%ba%ce%b1%cf%84%ce%b1%cf%83%ce%ba%ce%b5%cf%85%ce%ae-lego-spike/
CATEGORIES:American Space Veria,Εργαστήριο
END:VEVENT
BEGIN:VEVENT
DTSTART;TZID=Europe/Athens:20251229T103000
DTEND;TZID=Europe/Athens:20251229T113000
DTSTAMP:20260423T014115
CREATED:20260210T102243Z
LAST-MODIFIED:20260210T102252Z
UID:39017-1767004200-1767007800@www.libver.gr
SUMMARY:Το Μυστήριο της Χαμένης Νότας
DESCRIPTION:Τι συμβαίνει όταν μια νότα της μαγικής μελωδίας των Χριστουγέννων χαθεί; Μια ξεχωριστή αποστολή για μικρούς ντετέκτιβ των Χριστουγέννων!\nΓια παιδιά 6-12 ετών. Με προεγγραφή
URL:https://www.libver.gr/event/%cf%84%ce%bf-%ce%bc%cf%85%cf%83%cf%84%ce%ae%cf%81%ce%b9%ce%bf-%cf%84%ce%b7%cf%82-%cf%87%ce%b1%ce%bc%ce%ad%ce%bd%ce%b7%cf%82-%ce%bd%cf%8c%cf%84%ce%b1%cf%82/
CATEGORIES:Εργαστήριο
END:VEVENT
BEGIN:VEVENT
DTSTART;TZID=Europe/Athens:20251229T103000
DTEND;TZID=Europe/Athens:20251229T113000
DTSTAMP:20260423T014115
CREATED:20260210T105943Z
LAST-MODIFIED:20260210T105943Z
UID:39030-1767004200-1767007800@www.libver.gr
SUMMARY:Τρολοεπιστήμονες σε δράση!
DESCRIPTION:Τα σκανταλιάρικα τρολς αποφάσισαν να πειραματιστούν και να φτιάξουν τις πιο απίθανες εφευρέσεις!\nΈλα στο εργαστήριο και βοήθησέ τα να ανακαλύψουν τη μαγεία της επιστήμης!
URL:https://www.libver.gr/event/%cf%84%cf%81%ce%bf%ce%bb%ce%bf%ce%b5%cf%80%ce%b9%cf%83%cf%84%ce%ae%ce%bc%ce%bf%ce%bd%ce%b5%cf%82-%cf%83%ce%b5-%ce%b4%cf%81%ce%ac%cf%83%ce%b7/
CATEGORIES:Εργαστήριο
END:VEVENT
BEGIN:VEVENT
DTSTART;TZID=Europe/Athens:20251229T120000
DTEND;TZID=Europe/Athens:20251229T130000
DTSTAMP:20260423T014115
CREATED:20260210T104102Z
LAST-MODIFIED:20260210T113140Z
UID:39019-1767009600-1767013200@www.libver.gr
SUMMARY:Μια Αποστολή… σκέτη γλύκα!
DESCRIPTION:Μικροί μάγειρες βάλτε όλοι το χεράκι σας για να συναρμολογήσουμε το πιο γλυκό και λαχταριστό έλκηθρο που είδατε ποτέ!\nΓια παιδιά 6-12 ετών. Με προεγγραφή.
URL:https://www.libver.gr/event/%ce%bc%ce%b9%ce%b1-%ce%b1%cf%80%ce%bf%cf%83%cf%84%ce%bf%ce%bb%ce%ae-%cf%83%ce%ba%ce%ad%cf%84%ce%b7-%ce%b3%ce%bb%cf%8d%ce%ba%ce%b1-1200-1300/
CATEGORIES:Εργαστήριο
END:VEVENT
BEGIN:VEVENT
DTSTART;TZID=Europe/Athens:20251230T103000
DTEND;TZID=Europe/Athens:20251230T120000
DTSTAMP:20260423T014115
CREATED:20260210T104444Z
LAST-MODIFIED:20260210T104444Z
UID:39021-1767090600-1767096000@www.libver.gr
SUMMARY:Ένας τάρανδος αλλιώτικος από τους άλλους! Κατασκευή LEGO WEDO
DESCRIPTION:Οι τάρανδοι του Αϊ Βασίλη αρρώστησαν. Αποστολή μας να κατασκευάσουμε βοηθούς \, που θα βγάλουν τον Αϊ Βασίλη ασπροπρόσωπο!\nΓια παιδιά 6-10 ετών. Με προεγγραφή
URL:https://www.libver.gr/event/%ce%ad%ce%bd%ce%b1%cf%82-%cf%84%ce%ac%cf%81%ce%b1%ce%bd%ce%b4%ce%bf%cf%82-%ce%b1%ce%bb%ce%bb%ce%b9%cf%8e%cf%84%ce%b9%ce%ba%ce%bf%cf%82-%ce%b1%cf%80%cf%8c-%cf%84%ce%bf%cf%85%cf%82-%ce%ac%ce%bb%ce%bb/
CATEGORIES:American Space Veria,Εργαστήριο
END:VEVENT
BEGIN:VEVENT
DTSTART;TZID=Europe/Athens:20251230T123000
DTEND;TZID=Europe/Athens:20251230T133000
DTSTAMP:20260423T014115
CREATED:20260210T104837Z
LAST-MODIFIED:20260210T104837Z
UID:39023-1767097800-1767101400@www.libver.gr
SUMMARY:Κωδικός: Χρυσό αστέρι
DESCRIPTION:Μια χριστουγεννιάτικη αποστολή στο μαγικό χωριό\, για να επιστρέψει η χαμένη μαγεία!\nΓια παιδιά 6-11 ετών. Με προεγγραφή.
URL:https://www.libver.gr/event/%ce%ba%cf%89%ce%b4%ce%b9%ce%ba%cf%8c%cf%82-%cf%87%cf%81%cf%85%cf%83%cf%8c-%ce%b1%cf%83%cf%84%ce%ad%cf%81%ce%b9/
CATEGORIES:Εργαστήριο
END:VEVENT
BEGIN:VEVENT
DTSTART;TZID=Europe/Athens:20260124T090000
DTEND;TZID=Europe/Athens:20260124T110000
DTSTAMP:20260423T014115
CREATED:20260122T094832Z
LAST-MODIFIED:20260122T100001Z
UID:38924-1769245200-1769252400@www.libver.gr
SUMMARY:Intro to AI (Τεχνητή Νοημοσύνη)
DESCRIPTION:
URL:https://www.libver.gr/event/intro-to-ai-%cf%84%ce%b5%cf%87%ce%bd%ce%b7%cf%84%ce%ae-%ce%bd%ce%bf%ce%b7%ce%bc%ce%bf%cf%83%cf%8d%ce%bd%ce%b7/
CATEGORIES:American Space Veria,Εργαστήριο
END:VEVENT
BEGIN:VEVENT
DTSTART;TZID=Europe/Athens:20260124T110000
DTEND;TZID=Europe/Athens:20260124T130000
DTSTAMP:20260423T014115
CREATED:20260122T122634Z
LAST-MODIFIED:20260122T122634Z
UID:38945-1769252400-1769259600@www.libver.gr
SUMMARY:“Μαθαίνω… με το σώμα μου!” - βιωματικό workshop
DESCRIPTION:Ημερίδες για Γονείς & Παιδιά \nΑπό το Κέντρο Ειδικών Θεραπειών Ενσυναίσθηση – Μπέκα Αθηνά \nΠώς μεγαλώνουμε παιδιά με όρια\, αγάπη και σεβασμό; \nΠώς στηρίζουμε τη συναισθηματική\, επικοινωνιακή και μαθησιακή τους ανάπτυξη σε έναν κόσμο που αλλάζει συνεχώς; \nΤο Κέντρο Ειδικών Θεραπειών Ενσυναίσθηση – Μπέκα Αθηνά διοργανώνει μια σειρά βιωματικών και ενημερωτικών ημερίδων για γονείς\, με στόχο την ουσιαστική κατανόηση των αναγκών των παιδιών και την ενδυνάμωση της γονεϊκής σχέσης. \nΜέσα από σύγχρονες θεματολογίες όπως: \n\nη μάθηση μέσα από το σώμα\nόρια και η δύναμη του «όχι»\nη συναισθηματική ανθεκτικότητα\nη επικοινωνία και ο λόγος\nη επιλεκτική σίτιση\nη μουσικοθεραπεία και η έκφραση πριν από τα λόγια\nη επίδραση των οθονών στην παιδική ανάπτυξη\n\nοι ημερίδες προσφέρουν πρακτική γνώση\, επιστημονική καθοδήγηση και χώρο διαλόγου. \nΣτις ημερίδες συμμετέχουν διεπιστημονικά: \nψυχολόγοι\, λογοθεραπευτές\, εργοθεραπευτές\, παιδίατροι\, κοινωνικοί λειτουργοί\, ειδικοί παιδαγωγοί\, μουσικοθεραπευτές\, ψυχοδραματιστές με κοινό στόχο την ολιστική υποστήριξη του παιδιού και της οικογένειας. \n📌 Απευθύνονται σε γονείς παιδιών όλων των ηλικιών \n📌 Με φιλική\, κατανοητή και βιωματική προσέγγιση \n📌 Με σεβασμό στη μοναδικότητα κάθε παιδιού και κάθε οικογένειας \n  \nΓιατί η γονεϊκότητα δεν χρειάζεται τελειότητα — χρειάζεται ενσυναίσθηση. \n  \nΧώρος Διεξαγωγής : Δημόσια Κεντρική Βιβλιοθήκη Βέροιας \nΕίσοδος ελεύθερη
URL:https://www.libver.gr/event/%ce%bc%ce%b1%ce%b8%ce%b1%ce%af%ce%bd%cf%89-%ce%bc%ce%b5-%cf%84%ce%bf-%cf%83%cf%8e%ce%bc%ce%b1-%ce%bc%ce%bf%cf%85-%ce%b2%ce%b9%cf%89%ce%bc%ce%b1%cf%84%ce%b9%ce%ba%cf%8c-wo/
CATEGORIES:Εργαστήριο
END:VEVENT
BEGIN:VEVENT
DTSTART;TZID=Europe/Athens:20260126T170000
DTEND;TZID=Europe/Athens:20260126T200000
DTSTAMP:20260423T014115
CREATED:20260122T094929Z
LAST-MODIFIED:20260122T095955Z
UID:38926-1769446800-1769457600@www.libver.gr
SUMMARY:Εισαγωγή στο Microbit
DESCRIPTION:
URL:https://www.libver.gr/event/%ce%b5%ce%b9%cf%83%ce%b1%ce%b3%cf%89%ce%b3%ce%ae-%cf%83%cf%84%ce%bf-microbit/
CATEGORIES:American Space Veria,Εργαστήριο
END:VEVENT
BEGIN:VEVENT
DTSTART;TZID=Europe/Athens:20260131T090000
DTEND;TZID=Europe/Athens:20260131T110000
DTSTAMP:20260423T014115
CREATED:20260122T095003Z
LAST-MODIFIED:20260122T095949Z
UID:38928-1769850000-1769857200@www.libver.gr
SUMMARY:Εισαγωγή στην Επεξεργασία Δεδομένων
DESCRIPTION:
URL:https://www.libver.gr/event/%ce%b5%ce%b9%cf%83%ce%b1%ce%b3%cf%89%ce%b3%ce%ae-%cf%83%cf%84%ce%b7%ce%bd-%ce%b5%cf%80%ce%b5%ce%be%ce%b5%cf%81%ce%b3%ce%b1%cf%83%ce%af%ce%b1-%ce%b4%ce%b5%ce%b4%ce%bf%ce%bc%ce%ad%ce%bd%cf%89%ce%bd/
CATEGORIES:American Space Veria,Εργαστήριο
END:VEVENT
BEGIN:VEVENT
DTSTART;TZID=Europe/Athens:20260202T170000
DTEND;TZID=Europe/Athens:20260202T200000
DTSTAMP:20260423T014115
CREATED:20260122T095036Z
LAST-MODIFIED:20260122T095944Z
UID:38930-1770051600-1770062400@www.libver.gr
SUMMARY:Προγραμματισμός με Python
DESCRIPTION:
URL:https://www.libver.gr/event/%cf%80%cf%81%ce%bf%ce%b3%cf%81%ce%b1%ce%bc%ce%bc%ce%b1%cf%84%ce%b9%cf%83%ce%bc%cf%8c%cf%82-%ce%bc%ce%b5-python/
CATEGORIES:American Space Veria,Εργαστήριο
END:VEVENT
BEGIN:VEVENT
DTSTART;TZID=Europe/Athens:20260207T100000
DTEND;TZID=Europe/Athens:20260207T110000
DTSTAMP:20260423T014115
CREATED:20260122T095137Z
LAST-MODIFIED:20260122T095938Z
UID:38933-1770458400-1770462000@www.libver.gr
SUMMARY:Εισαγωγή στην Επεξεργασία Δεδομένων
DESCRIPTION:
URL:https://www.libver.gr/event/%ce%b5%ce%b9%cf%83%ce%b1%ce%b3%cf%89%ce%b3%ce%ae-%cf%83%cf%84%ce%b7%ce%bd-%ce%b5%cf%80%ce%b5%ce%be%ce%b5%cf%81%ce%b3%ce%b1%cf%83%ce%af%ce%b1-%ce%b4%ce%b5%ce%b4%ce%bf%ce%bc%ce%ad%ce%bd%cf%89%ce%bd-2/
CATEGORIES:American Space Veria,Εργαστήριο
END:VEVENT
BEGIN:VEVENT
DTSTART;TZID=Europe/Athens:20260209T170000
DTEND;TZID=Europe/Athens:20260209T180000
DTSTAMP:20260423T014115
CREATED:20260210T085903Z
LAST-MODIFIED:20260210T085903Z
UID:38999-1770656400-1770660000@www.libver.gr
SUMMARY:Η πόλη των μυστικών
DESCRIPTION:Μπορεί μια πόλη να μοιάζει με λαβύρινθο;\nΤα σημάδια μας βοηθούν να ξετυλίξουμε το κουβάρι της υπόθεσης..\nΓια παιδιά 7-11 ετών. Με προεγγραφή. Στα Μαγικά Κουτιά
URL:https://www.libver.gr/event/%ce%b7-%cf%80%cf%8c%ce%bb%ce%b7-%cf%84%cf%89%ce%bd-%ce%bc%cf%85%cf%83%cf%84%ce%b9%ce%ba%cf%8e%ce%bd/
CATEGORIES:Εργαστήριο
END:VEVENT
BEGIN:VEVENT
DTSTART;TZID=Europe/Athens:20260209T170000
DTEND;TZID=Europe/Athens:20260209T200000
DTSTAMP:20260423T014115
CREATED:20260122T095218Z
LAST-MODIFIED:20260122T095934Z
UID:38935-1770656400-1770667200@www.libver.gr
SUMMARY:Intro to AI (Τεχνητή Νοημοσύνη)
DESCRIPTION:
URL:https://www.libver.gr/event/intro-to-ai-%cf%84%ce%b5%cf%87%ce%bd%ce%b7%cf%84%ce%ae-%ce%bd%ce%bf%ce%b7%ce%bc%ce%bf%cf%83%cf%8d%ce%bd%ce%b7-2/
CATEGORIES:American Space Veria,Εργαστήριο
END:VEVENT
BEGIN:VEVENT
DTSTART;TZID=Europe/Athens:20260209T183000
DTEND;TZID=Europe/Athens:20260209T193000
DTSTAMP:20260423T014115
CREATED:20260210T085957Z
LAST-MODIFIED:20260210T085957Z
UID:39001-1770661800-1770665400@www.libver.gr
SUMMARY:Η παρέλαση των χρωμάτων
DESCRIPTION:Η παρέλαση ξεκινά\, κάποιος όμως προσπαθεί να μας μπερδέψει; Θα καταφέρουμε να τον ανακαλύψουμε;\nΓια παιδιά 5-7 ετών. Με προεγγραφή. Στα Μαγικά Κουτιά.
URL:https://www.libver.gr/event/%ce%b7-%cf%80%ce%b1%cf%81%ce%ad%ce%bb%ce%b1%cf%83%ce%b7-%cf%84%cf%89%ce%bd-%cf%87%cf%81%cf%89%ce%bc%ce%ac%cf%84%cf%89%ce%bd/
CATEGORIES:Εργαστήριο
END:VEVENT
BEGIN:VEVENT
DTSTART;TZID=Europe/Athens:20260214T103000
DTEND;TZID=Europe/Athens:20260214T111500
DTSTAMP:20260423T014115
CREATED:20260210T085533Z
LAST-MODIFIED:20260210T085533Z
UID:38995-1771065000-1771067700@www.libver.gr
SUMMARY:«Το Μυστικό Φυλαχτό της Καρδιάς»\, Εργαστήριο 3D\, 1ο γκρουπ
DESCRIPTION:Στην Ιταλία υπάρχει ένα μυστικό φυλαχτό με καρδιά. Λένε πως όποιος το σχεδιάσει σωστά\, ξεκλειδώνει ένα μυστήριο… 6 καλά κρυμμένα μυστικά περιμένουν τη λύση τους. Για παιδιά 7-10 ετών. Με προεγγραφή. Στο Maker Space.
URL:https://www.libver.gr/event/%cf%84%ce%bf-%ce%bc%cf%85%cf%83%cf%84%ce%b9%ce%ba%cf%8c-%cf%86%cf%85%ce%bb%ce%b1%cf%87%cf%84%cf%8c-%cf%84%ce%b7%cf%82-%ce%ba%ce%b1%cf%81%ce%b4%ce%b9%ce%ac%cf%82-%ce%b5%cf%81%ce%b3%ce%b1/
CATEGORIES:American Space Veria,Εργαστήριο
END:VEVENT
BEGIN:VEVENT
DTSTART;TZID=Europe/Athens:20260214T113000
DTEND;TZID=Europe/Athens:20260214T121500
DTSTAMP:20260423T014115
CREATED:20260210T085642Z
LAST-MODIFIED:20260210T085642Z
UID:38997-1771068600-1771071300@www.libver.gr
SUMMARY:«Το Μυστικό Φυλαχτό της Καρδιάς»\, Εργαστήριο 3D\, 2ο γκρουπ
DESCRIPTION:Στην Ιταλία υπάρχει ένα μυστικό φυλαχτό με καρδιά. Λένε πως όποιος το σχεδιάσει σωστά\, ξεκλειδώνει ένα μυστήριο… 6 καλά κρυμμένα μυστικά περιμένουν τη λύση τους Για παιδιά 7-10 ετών. Με προεγγραφή. Στα Maker Space.
URL:https://www.libver.gr/event/%cf%84%ce%bf-%ce%bc%cf%85%cf%83%cf%84%ce%b9%ce%ba%cf%8c-%cf%86%cf%85%ce%bb%ce%b1%cf%87%cf%84%cf%8c-%cf%84%ce%b7%cf%82-%ce%ba%ce%b1%cf%81%ce%b4%ce%b9%ce%ac%cf%82-%ce%b5%cf%81%ce%b3%ce%b1-2/
CATEGORIES:American Space Veria,Εργαστήριο
END:VEVENT
BEGIN:VEVENT
DTSTART;TZID=Europe/Athens:20260216T170000
DTEND;TZID=Europe/Athens:20260216T180000
DTSTAMP:20260423T014115
CREATED:20260210T085253Z
LAST-MODIFIED:20260210T085253Z
UID:38991-1771261200-1771264800@www.libver.gr
SUMMARY:Το μυστήριο της χαμένης μάσκας
DESCRIPTION:Όλοι έχουν το τέλειο άλλοθι .. ή μήπως όχι; Μαζεύουμε στοιχεία και λύνουμε το μυστήριο με λογική και φαντασία..! Για παιδιά 5-6 ετών. Με προεγγραφή. Στα Μαγικά κουτιά.
URL:https://www.libver.gr/event/%cf%84%ce%bf-%ce%bc%cf%85%cf%83%cf%84%ce%ae%cf%81%ce%b9%ce%bf-%cf%84%ce%b7%cf%82-%cf%87%ce%b1%ce%bc%ce%ad%ce%bd%ce%b7%cf%82-%ce%bc%ce%ac%cf%83%ce%ba%ce%b1%cf%82/
CATEGORIES:Εργαστήριο
END:VEVENT
BEGIN:VEVENT
DTSTART;TZID=Europe/Athens:20260216T170000
DTEND;TZID=Europe/Athens:20260216T200000
DTSTAMP:20260423T014115
CREATED:20260122T095252Z
LAST-MODIFIED:20260122T095813Z
UID:38937-1771261200-1771272000@www.libver.gr
SUMMARY:Προγραμματισμός με Microbit
DESCRIPTION:
URL:https://www.libver.gr/event/%cf%80%cf%81%ce%bf%ce%b3%cf%81%ce%b1%ce%bc%ce%bc%ce%b1%cf%84%ce%b9%cf%83%ce%bc%cf%8c%cf%82-%ce%bc%ce%b5-microbit/
CATEGORIES:American Space Veria,Εργαστήριο
END:VEVENT
BEGIN:VEVENT
DTSTART;TZID=Europe/Athens:20260216T183000
DTEND;TZID=Europe/Athens:20260216T193000
DTSTAMP:20260423T014115
CREATED:20260210T085408Z
LAST-MODIFIED:20260210T085408Z
UID:38993-1771266600-1771270200@www.libver.gr
SUMMARY:Το μυστήριο της χαμένης μάσκας 2
DESCRIPTION:Όλοι έχουν το τέλειο άλλοθι .. ή μήπως όχι; Μαζεύουμε στοιχεία και λύνουμε το μυστήριο με λογική και φαντασία..! Για παιδιά 7-12 ετών. Με προεγγραφή. Στα Μαγικά Κουτιά.
URL:https://www.libver.gr/event/%cf%84%ce%bf-%ce%bc%cf%85%cf%83%cf%84%ce%ae%cf%81%ce%b9%ce%bf-%cf%84%ce%b7%cf%82-%cf%87%ce%b1%ce%bc%ce%ad%ce%bd%ce%b7%cf%82-%ce%bc%ce%ac%cf%83%ce%ba%ce%b1%cf%82-2/
CATEGORIES:Εργαστήριο
END:VEVENT
BEGIN:VEVENT
DTSTART;TZID=Europe/Athens:20260218T170000
DTEND;TZID=Europe/Athens:20260218T180000
DTSTAMP:20260423T014115
CREATED:20260210T085007Z
LAST-MODIFIED:20260210T085007Z
UID:38987-1771434000-1771437600@www.libver.gr
SUMMARY:LEGO Μάσκες σε Κίνηση
DESCRIPTION:Τι συμβαίνει όταν μια μάσκα LEGO βρεθεί στο καρναβάλι της Βενετίας; Για παιδιά 5-6 ετών. Με προεγγραφή στο Maker space.
URL:https://www.libver.gr/event/lego-%ce%bc%ce%ac%cf%83%ce%ba%ce%b5%cf%82-%cf%83%ce%b5-%ce%ba%ce%af%ce%bd%ce%b7%cf%83%ce%b7/
CATEGORIES:American Space Veria,Εργαστήριο
END:VEVENT
BEGIN:VEVENT
DTSTART;TZID=Europe/Athens:20260218T183000
DTEND;TZID=Europe/Athens:20260218T194500
DTSTAMP:20260423T014115
CREATED:20260210T085158Z
LAST-MODIFIED:20260210T085158Z
UID:38989-1771439400-1771443900@www.libver.gr
SUMMARY:LEGO Μάσκες σε Κίνηση 2
DESCRIPTION:Τι συμβαίνει όταν μια μάσκα LEGO βρεθεί στο καρναβάλι της Βενετίας; Για παιδιά 7-11 ετών. Με προεγγραφή στο Maker Space.
URL:https://www.libver.gr/event/lego-%ce%bc%ce%ac%cf%83%ce%ba%ce%b5%cf%82-%cf%83%ce%b5-%ce%ba%ce%af%ce%bd%ce%b7%cf%83%ce%b7-2/
CATEGORIES:American Space Veria,Εργαστήριο
END:VEVENT
BEGIN:VEVENT
DTSTART;TZID=Europe/Athens:20260221T100000
DTEND;TZID=Europe/Athens:20260221T110000
DTSTAMP:20260423T014115
CREATED:20260210T082726Z
LAST-MODIFIED:20260210T085028Z
UID:38983-1771668000-1771671600@www.libver.gr
SUMMARY:Μυστήριο στον χορό των μεταμφιεσμένων
DESCRIPTION:Σε ένα χορό που όλοι είναι μασκαρεμένοι.. καλούμαστε να εντοπίσουμε τον ύποπτο… Θα τα καταφέρουμε; Για παιδιά 6-10 ετών. Με προεγγραφή. Στα Μαγικά Κουτιά.
URL:https://www.libver.gr/event/%ce%bc%cf%85%cf%83%cf%84%ce%ae%cf%81%ce%b9%ce%bf-%cf%83%cf%84%ce%bf%ce%bd-%cf%87%ce%bf%cf%81%cf%8c-%cf%84%cf%89%ce%bd-%ce%bc%ce%b5%cf%84%ce%b1%ce%bc%cf%86%ce%b9%ce%b5%cf%83%ce%bc%ce%ad%ce%bd%cf%89/
CATEGORIES:Εργαστήριο
END:VEVENT
BEGIN:VEVENT
DTSTART;TZID=Europe/Athens:20260221T113000
DTEND;TZID=Europe/Athens:20260221T123000
DTSTAMP:20260423T014115
CREATED:20260210T084816Z
LAST-MODIFIED:20260210T085043Z
UID:38985-1771673400-1771677000@www.libver.gr
SUMMARY:Υπόθεση: καρναβάλι
DESCRIPTION:Ο μυστικός φάκελος φτάνει\, τα στοιχεία μπαίνουν στη σειρά.. θα προλάβουμε να λύσουμε το μυστήριο εγκαίρως ενώ μας πιέζει ο χρόνος; Για παιδιά 6-10 ετών. Με προεγγραφή. Στα Μαγικά Κουτιά.
URL:https://www.libver.gr/event/%cf%85%cf%80%cf%8c%ce%b8%ce%b5%cf%83%ce%b7-%ce%ba%ce%b1%cf%81%ce%bd%ce%b1%ce%b2%ce%ac%ce%bb%ce%b9/
CATEGORIES:Εργαστήριο
END:VEVENT
BEGIN:VEVENT
DTSTART;TZID=Europe/Athens:20260316T170000
DTEND;TZID=Europe/Athens:20260316T180000
DTSTAMP:20260423T014115
CREATED:20260314T120726Z
LAST-MODIFIED:20260314T121950Z
UID:39104-1773680400-1773684000@www.libver.gr
SUMMARY:Η σιωπηλή φρουρός του πάρκου Γκουέλ
DESCRIPTION:Ανακαλύπτουμε ένα μυστικό καλά φυλαγμένο\, για τους πιο περίεργους εξερευνητές και δίνουμε μορφή στο μυστηριώδες πλάσμα..! \nΓια παιδιά 5-6 ετών. Με προεγγραφή. Στα Μαγικά κουτιά. 
URL:https://www.libver.gr/event/%ce%b7-%cf%83%ce%b9%cf%89%cf%80%ce%b7%ce%bb%ce%ae-%cf%86%cf%81%ce%bf%cf%85%cf%81%cf%8c%cf%82-%cf%84%ce%bf%cf%85-%cf%80%ce%ac%cf%81%ce%ba%ce%bf%cf%85-%ce%b3%ce%ba%ce%bf%cf%85%ce%ad%ce%bb/
CATEGORIES:Εργαστήριο
END:VEVENT
BEGIN:VEVENT
DTSTART;TZID=Europe/Athens:20260316T183000
DTEND;TZID=Europe/Athens:20260316T193000
DTSTAMP:20260423T014115
CREATED:20260314T121606Z
LAST-MODIFIED:20260314T121933Z
UID:39106-1773685800-1773689400@www.libver.gr
SUMMARY:Αποστολή: Τrencadis  (Το μωσαϊκό των χρωμάτων) 
DESCRIPTION:Μικρά ακανόνιστα κομμάτια κρύβουν μια ιστορία που περιμένει να ξαναγεννηθεί! \nΓια παιδιά 7-11 ετών. Με προεγγραφή. Στα Μαγικά κουτιά.
URL:https://www.libver.gr/event/%ce%b1%cf%80%ce%bf%cf%83%cf%84%ce%bf%ce%bb%ce%ae-%cf%84rencadis-%cf%84%ce%bf-%ce%bc%cf%89%cf%83%ce%b1%cf%8a%ce%ba%cf%8c-%cf%84%cf%89%ce%bd-%cf%87%cf%81%cf%89%ce%bc%ce%ac%cf%84%cf%89%ce%bd/
CATEGORIES:Εργαστήριο
END:VEVENT
END:VCALENDAR